BEGIN:VCALENDAR
VERSION:2.0
PRODID:-//wp-events-plugin.com//7.2.2.1//EN
TZID:Europe/Vienna
X-WR-TIMEZONE:Europe/Vienna
BEGIN:VEVENT
UID:13@wirfuerstier.at
DTSTART;TZID=Europe/Vienna:20190615T100000
DTEND;TZID=Europe/Vienna:20190615T140000
DTSTAMP:20190509T165149Z
URL:https://www.wirfuerstier.at/veranstaltungen/wir-fuers-tier-brunch-2019
 /
SUMMARY:Wir fürs Tier Brunch
DESCRIPTION:Der Tierschutzverein „Wir fürs Tier Oberwart“ freut sich\,
  Sie dieses Jahr wieder zum gemeinsamen Brunch einladen dürfen.\n\nDer Br
 unch findet in einem gemütlichen Ambiente in Großpetersdorf statt. Das e
 vangelischen Pfarrzentrum ist eine unglaublich tolle Location und bei Sch
 önwetter lädt auch der wunderschöne weitläufige Außenbereich zum Verw
 eilen ein.\nVon herzhaften Speisen\, über burgenländische Spezialitäten
  bis hin zu süßen Verführungen lässt unser kaltes und warmes Buffet wi
 e schon im Vorjahr keine Wünsche offen. Natürlich sind wieder alle Zutat
 en rein pflanzlich\, größtenteils regional und biologisch\, da wir uns a
 ls Tierschutzverein in allen Bereichen für Tiere und Umwelt engagieren.\n
 \nAuch die kleinen Gäste sind herzlich willkommen und dürfen sich in uns
 erer betreuten Bastel- und Malecke austoben!\n\nUm 13:00 Uhr findet dann d
 irekt vor Ort die große Wir fürs Tier Tombola 2019 statt\, mit über 100
  Preisen im Gesamtwert von über 3.000€! Lose werden noch direkt vor Ort
  zu kaufen sein. Hauptpreise sind unter anderem ein Mountainbike (von Zwei
 rad Fassl) im Wert von 500€\, Burgenlandgutscheine im Wert von 350€ (v
 on Bank Burgenland) und 200€ Gutschein für Nächtigung und Wein von Wei
 ngut Schützenhof.\n\nAuf Ihr Kommen freut sich der Verein wir fürs Tier 
 Oberwart. Der Reinerlös kommt den regionalen Tierschutzprojekten zugute!
ATTACH;FMTTYPE=image/jpeg:https://www.wirfuerstier.at/wp-content/uploads/2
 019/05/wft_brunch_2019.jpg
CATEGORIES:Veranstaltung
LOCATION:Evangelisches Pfarrzentrum\, Blumentalstraße 28\, Großpetersdorf
 \, 7503\, Österreich
X-APPLE-STRUCTURED-LOCATION;VALUE=URI;X-ADDRESS=Blumentalstraße 28\, Groß
 petersdorf\, 7503\, Österreich;X-APPLE-RADIUS=100;X-TITLE=Evangelisches P
 farrzentrum:geo:0,0
END:VEVENT
BEGIN:VTIMEZONE
TZID:Europe/Vienna
X-LIC-LOCATION:Europe/Vienna
BEGIN:DAYLIGHT
DTSTART:20190331T030000
TZOFFSETFROM:+0100
TZOFFSETTO:+0200
TZNAME:CEST
END:DAYLIGHT
END:VTIMEZONE
END:VCALENDAR